Workbook

Sheet Seznam vybrané literatury
A2: SEZNAM ČETBY K MATURITNÍ ZKOUŠCE
A3: Školní rok 2025/2026
A5: Jméno a příjmení žáka
G7: Vybrané knihy
B8: Autor | C8: Kniha | G8: Literární forma | H8: Časové období
A9: 1. | G9: =VLOOKUP(C9,'Autoři a díla'!$B$2:$D$96,2,0) -> #N/A | H9: =VLOOKUP(C9,'Autoři a díla'!$B$2:$D$96,3,0) -> #N/A
A10: 2. | G10: =VLOOKUP(C10,'Autoři a díla'!$B$2:$D$96,2,0) -> #N/A | H10: =VLOOKUP(C10,'Autoři a díla'!$B$2:$D$96,3,0) -> #N/A
A11: 3. | G11: =VLOOKUP(C11,'Autoři a díla'!$B$2:$D$96,2,0) -> #N/A | H11: =VLOOKUP(C11,'Autoři a díla'!$B$2:$D$96,3,0) -> #N/A
A12: 4. | G12: =VLOOKUP(C12,'Autoři a díla'!$B$2:$D$96,2,0) -> #N/A | H12: =VLOOKUP(C12,'Autoři a díla'!$B$2:$D$96,3,0) -> #N/A
A13: 5. | G13: =VLOOKUP(C13,'Autoři a díla'!$B$2:$D$96,2,0) -> #N/A | H13: =VLOOKUP(C13,'Autoři a díla'!$B$2:$D$96,3,0) -> #N/A
A14: 6. | G14: =VLOOKUP(C14,'Autoři a díla'!$B$2:$D$96,2,0) -> #N/A | H14: =VLOOKUP(C14,'Autoři a díla'!$B$2:$D$96,3,0) -> #N/A
A15: 7. | G15: =VLOOKUP(C15,'Autoři a díla'!$B$2:$D$96,2,0) -> #N/A | H15: =VLOOKUP(C15,'Autoři a díla'!$B$2:$D$96,3,0) -> #N/A
A16: 8. | G16: =VLOOKUP(C16,'Autoři a díla'!$B$2:$D$96,2,0) -> #N/A | H16: =VLOOKUP(C16,'Autoři a díla'!$B$2:$D$96,3,0) -> #N/A
A17: 9. | G17: =VLOOKUP(C17,'Autoři a díla'!$B$2:$D$96,2,0) -> #N/A | H17: =VLOOKUP(C17,'Autoři a díla'!$B$2:$D$96,3,0) -> #N/A
A18: 10. | G18: =VLOOKUP(C18,'Autoři a díla'!$B$2:$D$96,2,0) -> #N/A | H18: =VLOOKUP(C18,'Autoři a díla'!$B$2:$D$96,3,0) -> #N/A
A19: 11. | G19: =VLOOKUP(C19,'Autoři a díla'!$B$2:$D$96,2,0) -> #N/A | H19: =VLOOKUP(C19,'Autoři a díla'!$B$2:$D$96,3,0) -> #N/A
A20: 12. | G20: =VLOOKUP(C20,'Autoři a díla'!$B$2:$D$96,2,0) -> #N/A | H20: =VLOOKUP(C20,'Autoři a díla'!$B$2:$D$96,3,0) -> #N/A
... A28: 20. | G28: =VLOOKUP(C28,'Autoři a díla'!$B$2:$D$96,2,0) -> #N/A | H28: =VLOOKUP(C28,'Autoři a díla'!$B$2:$D$96,3,0) -> #N/A
A33: Požadavky na počet knih | C33: Skutečný počet vybraných knih
A34: Česká a světová literatura do 18. století (2 knihy) | C34: =COUNTIF($H$9:$H$28,4) -> 0
A35: Česká a světová literatura napsaná v 19. století (3 knihy) | C35: =COUNTIF($H$9:$H$28,5) -> 0
A36: Světová literatura 20. a 21. století (4 knihy) | C36: =COUNTIF($H$9:$H$28,6) -> 0
A37: Česká literatura 20. a 21. století (5 knih) | C37: =COUNTIF($H$9:$H$28,7) -> 0
A38: Próza (2 knihy) | C38: =COUNTIF($G$9:$G$28,1) -> 0
A39: Poezie (2 knihy) | C39: =COUNTIF($G$9:$G$28,2) -> 0
A40: Drama (2 knihy) | C40: =COUNTIF($G$9:$G$28,3) -> 0
A47: Datum odevzdání: | C47: Podpis žáka:

Sheet Autoři a díla
A1: Jméno autora | B1: Kniha | C1: Literární forma | D1: Časové období | G1: Vyvětlivky | H1: Číslo
A2: Austenová, Jane | B2: Pýcha a předsudek | C2: 1 | D2: 5 | G2: Próza | H2: 1
A3: Balzac, Honoré de | B3: Otec Goriot | C3: 1 | D3: 5 | G3: Poezie | H3: 2
A4: Bass, Eduard | B4: Cirkus Humberto | C4: 1 | D4: 7 | G4: Drama | H4: 3
A5: Beckett, Samuel | B5: Čekání na Godota | C5: 3 | D5: 6 | G5: do 18. století | H5: 4
A6: Boccaccio, Giovanni | B6: Dekameron | C6: 1 | D6: 4 | G6: 19. století | H6: 5
A7: Borovský, Karel Havlíček | B7: Král Lávra | C7: 2 | D7: 5 | G7: Světová literatura 20. + 21. století | H7: 6
A8: Bronteová, Charlotta | B8: Jana Eyrová | C8: 1 | D8: 5 | G8: Česká literatura 20. + 21. století | H8: 7
A9: Bronteová, Emily | B9: Na Větrné hůrce | C9: 1 | D9: 5
A10: Caroll, Lewis | B10: Alenka v říši divů | C10: 1 | D10: 5
A11: Camus, Albert | B11: Cizinec | C11: 1 | D11: 6
A12: Coelho, Paolo | B12: Alchymista | C12: 1 | D12: 6
A13: Čapek, Karel | B13: Bílá nemoc | C13: 3 | D13: 7
A14: Čapek, Karel | B14: Válka s mloky | C14: 1 | D14: 7
A15: Čapek, Karel | B15: R.U.R. | C15: 3 | D15: 7
A16: Defoe, Daniel | B16: Robinson Crusoe | C16: 1 | D16: 4
A17: Dickens, Charles | B17: Oliver Twist | C17: 1 | D17: 5
A18: Dyk, Viktor | B18: Krysař | C18: 1 | D18: 7
A19: Eco, Umberto | B19: Jméno růže | C19: 1 | D19: 6
A20: Erben, Karel Jaromír | B20: Kytice | C20: 2 | D20: 5
... A96: Zola, Émile | B96: Zabiják | C96: 1 | D96: 5

Sheet Seznam autorů
A1: 1 | B1: Austenová, Jane
A2: 2 | B2: Balzac, Honoré de
A3: 3 | B3: Bass, Eduard
A4: 4 | B4: Beckett, Samuel
A5: 5 | B5: Boccaccio, Giovanni
A6: 6 | B6: Borovský, Karel Havlíček
A7: 7 | B7: Bronteová, Charlotta
A8: 8 | B8: Bronteová, Emily
A9: 9 | B9: Caroll, Lewis
A10: 10 | B10: Camus, Albert
A11: 11 | B11: Coelho, Paolo
A12: 12 | B12: Čapek, Karel
... A78: 78 | B78: Zola, Émile
